BEGIN:VCALENDAR
VERSION:2.0
PRODID:-//wp-events-plugin.com//7.2.3.1//EN
BEGIN:VEVENT
UID:2@khenpoogenkalsang.org
DTSTART:20220127T000000Z
DTEND:20220127T000000Z
DTSTAMP:20211220T173201Z
URL:https://khenpoogenkalsang.org/events/green-tara-transmission-2/
SUMMARY:Green Tara Transmission
DESCRIPTION:
END:VEVENT
BEGIN:VEVENT
UID:3@khenpoogenkalsang.org
DTSTART:20221215T050000Z
DTEND:20221215T050000Z
DTSTAMP:20211220T173951Z
URL:https://khenpoogenkalsang.org/events/green-tara-transmission/
SUMMARY:Green Tara Transmission
DESCRIPTION:
ATTACH;FMTTYPE=image/jpeg:https://khenpoogenkalsang.org/wp-content/uploads
 /2021/12/green-tara1.jpg
END:VEVENT
END:VCALENDAR